BEGIN:VCALENDAR
VERSION:2.0
PRODID:-//Schützengesellschaft Altenceller Vorstadt von 1428 e.V. - ECPv6.15.20//NONSGML v1.0//EN
CALSCALE:GREGORIAN
METHOD:PUBLISH
X-WR-CALNAME:Schützengesellschaft Altenceller Vorstadt von 1428 e.V.
X-ORIGINAL-URL:https://altenceller-vorstadt.de
X-WR-CALDESC:Veranstaltungen für Schützengesellschaft Altenceller Vorstadt von 1428 e.V.
REFRESH-INTERVAL;VALUE=DURATION:PT1H
X-Robots-Tag:noindex
X-PUBLISHED-TTL:PT1H
BEGIN:VTIMEZONE
TZID:Europe/Berlin
BEGIN:DAYLIGHT
TZOFFSETFROM:+0100
TZOFFSETTO:+0200
TZNAME:CEST
DTSTART:20240331T010000
END:DAYLIGHT
BEGIN:STANDARD
TZOFFSETFROM:+0200
TZOFFSETTO:+0100
TZNAME:CET
DTSTART:20241027T010000
END:STANDARD
BEGIN:DAYLIGHT
TZOFFSETFROM:+0100
TZOFFSETTO:+0200
TZNAME:CEST
DTSTART:20250330T010000
END:DAYLIGHT
BEGIN:STANDARD
TZOFFSETFROM:+0200
TZOFFSETTO:+0100
TZNAME:CET
DTSTART:20251026T010000
END:STANDARD
BEGIN:DAYLIGHT
TZOFFSETFROM:+0100
TZOFFSETTO:+0200
TZNAME:CEST
DTSTART:20260329T010000
END:DAYLIGHT
BEGIN:STANDARD
TZOFFSETFROM:+0200
TZOFFSETTO:+0100
TZNAME:CET
DTSTART:20261025T010000
END:STANDARD
END:VTIMEZONE
BEGIN:VEVENT
DTSTART;TZID=Europe/Berlin:20250627T220000
DTEND;TZID=Europe/Berlin:20250628T013000
DTSTAMP:20260423T165429
CREATED:20250610T053025Z
LAST-MODIFIED:20250610T053248Z
UID:855-1751061600-1751074200@altenceller-vorstadt.de
SUMMARY:Versammlung
DESCRIPTION:Liebe Schützenschwester\, lieber Schützenbruder\,\nhiermit laden wir Dich zu unserer Schützenversammlung am Freitag\, den 27. Juni 2025 recht herzlich ein. \nVersammlungsort: Theo-Wilkens-Halle\nBeginn: 20.00 Uhr\nAnzugsordnung: zivil \nNach Folgender Tagesordnung soll verfahren werden:\n1. Begrüßung und Bekanntgabe der Tagesordnung\n2.Totenehrung\n3.Verlesen des Protokolls der letzten Versammlung\n4.Wahlen: 1x Offizier\, 1x Ehrenrat\n5.Informationen vom Oberschützenmeister\n6.Information vom 1. Vorsteher zum Schützenfest 2025\n7.Verschiedenes \nAnträge zum Punkt „Verschiedenes“ sind bis zum 20.06.2025 schriftlich an den 1. Vorsteher\, Christian Glück\, Eilensteg 14\, 29227 Celle zu richten. Eine Anmeldeliste für einen Bussitzplatz\n(Vorkasse 10.00 €) während des Schützenumzuges hängt in der Schießhalle aus. \n2025- Einladung Versammlung
URL:https://altenceller-vorstadt.de/termine/versammlung/
LOCATION:Theo-Wilkens-Halle Celle\, Hafenstraße 6\, Celle\, 29221\, Germany
CATEGORIES:Versammlung
ATTACH;FMTTYPE=image/webp:https://altenceller-vorstadt.de/wp-content/uploads/2025/06/Versammlung.webp
END:VEVENT
END:VCALENDAR