BEGIN:VCALENDAR
VERSION:2.0
PRODID:-//Schützengesellschaft Altenceller Vorstadt von 1428 e.V. - ECPv6.15.20//NONSGML v1.0//EN
CALSCALE:GREGORIAN
METHOD:PUBLISH
X-WR-CALNAME:Schützengesellschaft Altenceller Vorstadt von 1428 e.V.
X-ORIGINAL-URL:https://altenceller-vorstadt.de
X-WR-CALDESC:Veranstaltungen für Schützengesellschaft Altenceller Vorstadt von 1428 e.V.
REFRESH-INTERVAL;VALUE=DURATION:PT1H
X-Robots-Tag:noindex
X-PUBLISHED-TTL:PT1H
BEGIN:VTIMEZONE
TZID:Europe/Berlin
BEGIN:DAYLIGHT
TZOFFSETFROM:+0100
TZOFFSETTO:+0200
TZNAME:CEST
DTSTART:20250330T010000
END:DAYLIGHT
BEGIN:STANDARD
TZOFFSETFROM:+0200
TZOFFSETTO:+0100
TZNAME:CET
DTSTART:20251026T010000
END:STANDARD
BEGIN:DAYLIGHT
TZOFFSETFROM:+0100
TZOFFSETTO:+0200
TZNAME:CEST
DTSTART:20260329T010000
END:DAYLIGHT
BEGIN:STANDARD
TZOFFSETFROM:+0200
TZOFFSETTO:+0100
TZNAME:CET
DTSTART:20261025T010000
END:STANDARD
BEGIN:DAYLIGHT
TZOFFSETFROM:+0100
TZOFFSETTO:+0200
TZNAME:CEST
DTSTART:20270328T010000
END:DAYLIGHT
BEGIN:STANDARD
TZOFFSETFROM:+0200
TZOFFSETTO:+0100
TZNAME:CET
DTSTART:20271031T010000
END:STANDARD
END:VTIMEZONE
BEGIN:VEVENT
DTSTART;TZID=Europe/Berlin:20260925T193000
DTEND;TZID=Europe/Berlin:20260925T220000
DTSTAMP:20260423T004853
CREATED:20260421T191718Z
LAST-MODIFIED:20260421T191718Z
UID:1457-1790364600-1790373600@altenceller-vorstadt.de
SUMMARY:Übungsschießen
DESCRIPTION:Wöchentliches Übungsschießen der Erwachsenen. Gäste und Interessierte sind herzlich willkommen.
URL:https://altenceller-vorstadt.de/termine/uebungsschiessen-25/
LOCATION:Theo-Wilkens-Halle Celle\, Hafenstraße 6\, Celle\, 29221\, Germany
CATEGORIES:Übungsschießen
END:VEVENT
END:VCALENDAR