BEGIN:VCALENDAR
VERSION:2.0
PRODID:-//Schützengesellschaft Altenceller Vorstadt von 1428 e.V. - ECPv6.15.20//NONSGML v1.0//EN
CALSCALE:GREGORIAN
METHOD:PUBLISH
X-WR-CALNAME:Schützengesellschaft Altenceller Vorstadt von 1428 e.V.
X-ORIGINAL-URL:https://altenceller-vorstadt.de
X-WR-CALDESC:Veranstaltungen für Schützengesellschaft Altenceller Vorstadt von 1428 e.V.
REFRESH-INTERVAL;VALUE=DURATION:PT1H
X-Robots-Tag:noindex
X-PUBLISHED-TTL:PT1H
BEGIN:VTIMEZONE
TZID:Europe/Berlin
BEGIN:DAYLIGHT
TZOFFSETFROM:+0100
TZOFFSETTO:+0200
TZNAME:CEST
DTSTART:20240331T010000
END:DAYLIGHT
BEGIN:STANDARD
TZOFFSETFROM:+0200
TZOFFSETTO:+0100
TZNAME:CET
DTSTART:20241027T010000
END:STANDARD
BEGIN:DAYLIGHT
TZOFFSETFROM:+0100
TZOFFSETTO:+0200
TZNAME:CEST
DTSTART:20250330T010000
END:DAYLIGHT
BEGIN:STANDARD
TZOFFSETFROM:+0200
TZOFFSETTO:+0100
TZNAME:CET
DTSTART:20251026T010000
END:STANDARD
BEGIN:DAYLIGHT
TZOFFSETFROM:+0100
TZOFFSETTO:+0200
TZNAME:CEST
DTSTART:20260329T010000
END:DAYLIGHT
BEGIN:STANDARD
TZOFFSETFROM:+0200
TZOFFSETTO:+0100
TZNAME:CET
DTSTART:20261025T010000
END:STANDARD
END:VTIMEZONE
BEGIN:VEVENT
DTSTART;VALUE=DATE:20250718
DTEND;VALUE=DATE:20250724
DTSTAMP:20260423T194758
CREATED:20250608T121943Z
LAST-MODIFIED:20250705T033651Z
UID:683-1752804000-1753235999@altenceller-vorstadt.de
SUMMARY:Schützenfest Celle
DESCRIPTION:
URL:https://altenceller-vorstadt.de/termine/schuetzenfest-celle/
LOCATION:Schützenplatz Celle\, Hafenstraße 6\, Celle\, 29221
CATEGORIES:Veranstaltungen
ATTACH;FMTTYPE=image/jpeg:https://altenceller-vorstadt.de/wp-content/uploads/2025/06/Schuetzenfest-Celle.jpg
END:VEVENT
END:VCALENDAR