BEGIN:VCALENDAR
VERSION:2.0
PRODID:-//Schützengesellschaft Altenceller Vorstadt von 1428 e.V. - ECPv6.15.20//NONSGML v1.0//EN
CALSCALE:GREGORIAN
METHOD:PUBLISH
X-WR-CALNAME:Schützengesellschaft Altenceller Vorstadt von 1428 e.V.
X-ORIGINAL-URL:https://altenceller-vorstadt.de
X-WR-CALDESC:Veranstaltungen für Schützengesellschaft Altenceller Vorstadt von 1428 e.V.
REFRESH-INTERVAL;VALUE=DURATION:PT1H
X-Robots-Tag:noindex
X-PUBLISHED-TTL:PT1H
BEGIN:VTIMEZONE
TZID:Europe/Berlin
BEGIN:DAYLIGHT
TZOFFSETFROM:+0100
TZOFFSETTO:+0200
TZNAME:CEST
DTSTART:20250330T010000
END:DAYLIGHT
BEGIN:STANDARD
TZOFFSETFROM:+0200
TZOFFSETTO:+0100
TZNAME:CET
DTSTART:20251026T010000
END:STANDARD
BEGIN:DAYLIGHT
TZOFFSETFROM:+0100
TZOFFSETTO:+0200
TZNAME:CEST
DTSTART:20260329T010000
END:DAYLIGHT
BEGIN:STANDARD
TZOFFSETFROM:+0200
TZOFFSETTO:+0100
TZNAME:CET
DTSTART:20261025T010000
END:STANDARD
BEGIN:DAYLIGHT
TZOFFSETFROM:+0100
TZOFFSETTO:+0200
TZNAME:CEST
DTSTART:20270328T010000
END:DAYLIGHT
BEGIN:STANDARD
TZOFFSETFROM:+0200
TZOFFSETTO:+0100
TZNAME:CET
DTSTART:20271031T010000
END:STANDARD
END:VTIMEZONE
BEGIN:VEVENT
DTSTART;TZID=Europe/Berlin:20260612T193000
DTEND;TZID=Europe/Berlin:20260612T220000
DTSTAMP:20260422T200706
CREATED:20260421T191203Z
LAST-MODIFIED:20260421T200840Z
UID:1423-1781292600-1781301600@altenceller-vorstadt.de
SUMMARY:5. Klubschießen / Pokal
DESCRIPTION:
URL:https://altenceller-vorstadt.de/termine/5-klubschiessen-pokal/
LOCATION:Theo-Wilkens-Halle Celle\, Hafenstraße 6\, Celle\, 29221\, Germany
CATEGORIES:KK-Schießen
END:VEVENT
END:VCALENDAR